Package: SGSeq Version: 1.41.0 Command: /home/biocbuild/bbs-3.21-bioc/R/bin/R CMD INSTALL SGSeq StartedAt: 2025-02-19 15:42:14 -0500 (Wed, 19 Feb 2025) EndedAt: 2025-02-19 15:42:53 -0500 (Wed, 19 Feb 2025) EllapsedTime: 39.4 seconds RetCode: 0 Status: OK