Package: SGSeq
Version: 1.41.0
Command: /home/biocbuild/bbs-3.21-bioc/R/bin/R CMD check --install=check:SGSeq.install-out.txt --library=/home/biocbuild/bbs-3.21-bioc/R/site-library --timings SGSeq_1.41.0.tar.gz
StartedAt: 2025-02-20 02:28:43 -0500 (Thu, 20 Feb 2025)
EndedAt: 2025-02-20 02:39:52 -0500 (Thu, 20 Feb 2025)
EllapsedTime: 669.1 seconds
RetCode: 0
Status: OK
CheckDir: SGSeq.Rcheck
Warnings: 0