Package: SGSeq
Version: 1.41.0
Command: /home/biocbuild/bbs-3.21-bioc/R/bin/R CMD build --keep-empty-dirs --no-resave-data SGSeq
StartedAt: 2025-02-19 19:13:34 -0500 (Wed, 19 Feb 2025)
EndedAt: 2025-02-19 19:16:35 -0500 (Wed, 19 Feb 2025)
EllapsedTime: 180.2 seconds
RetCode: 0
Status: OK
PackageFile: SGSeq_1.41.0.tar.gz
PackageFileSize: 1.733 <A href="http://en.wikipedia.org/wiki/MiB" target="_blank">MiB</A>