Package: SGSeq Version: 1.41.0 Command: /Library/Frameworks/R.framework/Resources/bin/R CMD INSTALL SGSeq StartedAt: 2025-02-19 15:18:05 -0500 (Wed, 19 Feb 2025) EndedAt: 2025-02-19 15:18:59 -0500 (Wed, 19 Feb 2025) EllapsedTime: 53.7 seconds RetCode: 0 Status: OK