Package: SGSeq
Version: 1.41.0
Command: /Library/Frameworks/R.framework/Resources/bin/R CMD check --install=check:SGSeq.install-out.txt --library=/Library/Frameworks/R.framework/Resources/library --no-vignettes --timings SGSeq_1.41.0.tar.gz
StartedAt: 2025-02-19 23:16:26 -0500 (Wed, 19 Feb 2025)
EndedAt: 2025-02-19 23:27:16 -0500 (Wed, 19 Feb 2025)
EllapsedTime: 649.2 seconds
RetCode: 0
Status: OK
CheckDir: SGSeq.Rcheck
Warnings: 0