##############################################################################
##############################################################################
###
### Running command:
###
###   /Library/Frameworks/R.framework/Resources/bin/R CMD check --install=check:SGSeq.install-out.txt --library=/Library/Frameworks/R.framework/Resources/library --no-vignettes --timings SGSeq_1.41.0.tar.gz
###
##############################################################################
##############################################################################


* using log directory ‘/Users/biocbuild/bbs-3.21-bioc/meat/SGSeq.Rcheck’
* using R Under development (unstable) (2025-01-22 r87618)
* using platform: x86_64-apple-darwin20
* R was compiled by
    Apple clang version 14.0.0 (clang-1400.0.29.202)
    GNU Fortran (GCC) 14.2.0
* running under: macOS Monterey 12.7.6
* using session charset: UTF-8
* using option ‘--no-vignettes’
* checking for file ‘SGSeq/DESCRIPTION’ ... OK
* checking extension type ... Package
* this is package ‘SGSeq’ version ‘1.41.0’
* checking package namespace information ... OK
* checking package dependencies ... OK
* checking if this is a source package ... OK
* checking if there is a namespace ... OK
* checking for hidden files and directories ... OK
* checking for portable file names ... OK
* checking for sufficient/correct file permissions ... OK
* checking whether package ‘SGSeq’ can be installed ... OK
* checking installed package size ... OK
* checking package directory ... OK
* checking ‘build’ directory ... OK
* checking DESCRIPTION meta-information ... OK
* checking top-level files ... OK
* checking for left-over files ... OK
* checking index information ... OK
* checking package subdirectories ... OK
* checking code files for non-ASCII characters ... OK
* checking R files for syntax errors ... OK
* checking whether the package can be loaded ... OK
* checking whether the package can be loaded with stated dependencies ... OK
* checking whether the package can be unloaded cleanly ... OK
* checking whether the namespace can be loaded with stated dependencies ... OK
* checking whether the namespace can be unloaded cleanly ... OK
* checking dependencies in R code ... NOTE
Unexported objects imported by ':::' calls:
  ‘GenomicRanges:::extraColumnSlotNames’
  ‘GenomicRanges:::extraColumnSlotsAsDF’
  See the note in ?`:::` about the use of this operator.
* checking S3 generic/method consistency ... OK
* checking replacement functions ... OK
* checking foreign function calls ... OK
* checking R code for possible problems ... OK
* checking Rd files ... NOTE
checkRd: (-1) SGVariants.Rd:24-27: Lost braces in \itemize; meant \describe ?
checkRd: (-1) SGVariants.Rd:28-29: Lost braces in \itemize; meant \describe ?
checkRd: (-1) SGVariants.Rd:30-31: Lost braces in \itemize; meant \describe ?
checkRd: (-1) SGVariants.Rd:32-34: Lost braces in \itemize; meant \describe ?
checkRd: (-1) SGVariants.Rd:35-36: Lost braces in \itemize; meant \describe ?
checkRd: (-1) SGVariants.Rd:37-39: Lost braces in \itemize; meant \describe ?
checkRd: (-1) SGVariants.Rd:40-42: Lost braces in \itemize; meant \describe ?
checkRd: (-1) SGVariants.Rd:43-44: Lost braces in \itemize; meant \describe ?
checkRd: (-1) SGVariants.Rd:45-46: Lost braces in \itemize; meant \describe ?
checkRd: (-1) SGVariants.Rd:47-49: Lost braces in \itemize; meant \describe ?
checkRd: (-1) SGVariants.Rd:53: Lost braces in \itemize; meant \describe ?
checkRd: (-1) SGVariants.Rd:54: Lost braces in \itemize; meant \describe ?
checkRd: (-1) SGVariants.Rd:55-57: Lost braces in \itemize; meant \describe ?
checkRd: (-1) SGVariants.Rd:58-59: Lost braces in \itemize; meant \describe ?
checkRd: (-1) getBamInfo.Rd:36: Lost braces; missing escapes or markup?
    36 | Note that library size is only obtained if \code{yieldSize} is {NULL}.
       |                                                                ^
checkRd: (-1) getSGFeatureCounts.Rd:28: Lost braces
    28 | code{SGFeatureCounts} object, or integer matrix of counts
       |     ^
* checking Rd metadata ... OK
* checking Rd cross-references ... OK
* checking for missing documentation entries ... OK
* checking for code/documentation mismatches ... OK
* checking Rd \usage sections ... OK
* checking Rd contents ... OK
* checking for unstated dependencies in examples ... OK
* checking contents of ‘data’ directory ... OK
* checking data for non-ASCII characters ... OK
* checking LazyData ... OK
* checking data for ASCII and uncompressed saves ... OK
* checking files in ‘vignettes’ ... OK
* checking examples ... OK
Examples with CPU (user + system) or elapsed time > 5s
                        user system elapsed
predictVariantEffects 46.283  0.419  58.991
analyzeFeatures       23.392  0.299  23.833
predictTxFeatures     12.979  0.125  13.172
getSGVariantCounts     7.552  0.087   7.666
getSGFeatureCounts     6.281  0.091   6.404
* checking for unstated dependencies in ‘tests’ ... OK
* checking tests ...
  Running ‘runTests.R’
 OK
* checking for unstated dependencies in vignettes ... OK
* checking package vignettes ... OK
* checking running R code from vignettes ... SKIPPED
* checking re-building of vignette outputs ... SKIPPED
* checking PDF version of manual ... OK
* DONE

Status: 2 NOTEs
See
  ‘/Users/biocbuild/bbs-3.21-bioc/meat/SGSeq.Rcheck/00check.log’
for details.