Package: SGSeq
Version: 1.41.0
Command: /Library/Frameworks/R.framework/Resources/bin/R CMD build --keep-empty-dirs --no-resave-data SGSeq
StartedAt: 2025-02-19 18:16:11 -0500 (Wed, 19 Feb 2025)
EndedAt: 2025-02-19 18:19:31 -0500 (Wed, 19 Feb 2025)
EllapsedTime: 200.0 seconds
RetCode: 0
Status: OK
PackageFile: SGSeq_1.41.0.tar.gz
PackageFileSize: 1.747 <A href="http://en.wikipedia.org/wiki/MiB" target="_blank">MiB</A>