Package: SGSeq Version: 1.41.0 Command: rm -rf SGSeq.buildbin-libdir && mkdir SGSeq.buildbin-libdir && /Users/biocbuild/BBS/utils/build-universal.sh SGSeq_1.41.0.tar.gz /Library/Frameworks/R.framework/Resources/bin/R SGSeq.buildbin-libdir StartedAt: 2025-02-20 00:54:44 -0500 (Thu, 20 Feb 2025) EndedAt: 2025-02-20 00:55:42 -0500 (Thu, 20 Feb 2025) EllapsedTime: 57.9 seconds RetCode: 0 Status: OK PackageFile: SGSeq_1.41.0.tgz PackageFileSize: 1.777 <A href="http://en.wikipedia.org/wiki/MiB" target="_blank">MiB</A>