Package: SEtools
Version: 1.21.0
Command: rm -rf SEtools.buildbin-libdir && mkdir SEtools.buildbin-libdir && /Users/biocbuild/BBS/utils/build-universal.sh SEtools_1.21.0.tar.gz /Library/Frameworks/R.framework/Resources/bin/R SEtools.buildbin-libdir
StartedAt: 2025-02-16 22:29:10 -0500 (Sun, 16 Feb 2025)
EndedAt: 2025-02-16 22:29:25 -0500 (Sun, 16 Feb 2025)
EllapsedTime: 15.3 seconds
RetCode: 0
Status: OK
PackageFile: SEtools_1.21.0.tgz
PackageFileSize: 377.5 <A href="http://en.wikipedia.org/wiki/KiB" target="_blank">KiB</A>