Package: SEtools Version: 1.21.0 Maintainer: Pierre-Luc Germain MaintainerEmail: pierre-luc.germain at hest.ethz.ch git_url: https://git.bioconductor.org/packages/SEtools git_branch: devel git_last_commit: 17a9530 git_last_commit_date: 2024-10-29 10:40:00 -0500 (Tue, 29 Oct 2024)