Package: SBMLR
Version: 2.3.0
Maintainer: Tomas Radivoyevitch
MaintainerEmail: radivot at gmail.com
git_url: https://git.bioconductor.org/packages/SBMLR
git_branch: devel
git_last_commit: 7e71177
git_last_commit_date: 2024-10-29 09:23:48 -0500 (Tue, 29 Oct 2024)