Package: SARC
Version: 1.5.0
Command: E:\biocbuild\bbs-3.21-bioc\R\bin\R.exe CMD check --no-multiarch --install=check:SARC.install-out.txt --library=E:\biocbuild\bbs-3.21-bioc\R\library --no-vignettes --timings SARC_1.5.0.tar.gz
StartedAt: 2025-02-20 05:00:42 -0500 (Thu, 20 Feb 2025)
EndedAt: 2025-02-20 05:08:42 -0500 (Thu, 20 Feb 2025)
EllapsedTime: 479.3 seconds
RetCode: 0
Status: OK
CheckDir: SARC.Rcheck
Warnings: 0