Package: SARC
Version: 1.5.0
Command: chmod a+r SARC -R && E:\biocbuild\bbs-3.21-bioc\R\bin\R.exe CMD build --keep-empty-dirs --no-resave-data SARC
StartedAt: 2025-02-19 21:22:34 -0500 (Wed, 19 Feb 2025)
EndedAt: 2025-02-19 21:24:52 -0500 (Wed, 19 Feb 2025)
EllapsedTime: 137.6 seconds
RetCode: 0
Status: OK
PackageFile: SARC_1.5.0.tar.gz
PackageFileSize: 3.426 <A href="http://en.wikipedia.org/wiki/MiB" target="_blank">MiB</A>