Package: Rhdf5lib Version: 1.29.0 Command: /home/biocbuild/bbs-3.21-bioc/R/bin/R CMD INSTALL Rhdf5lib StartedAt: 2025-02-19 15:02:41 -0500 (Wed, 19 Feb 2025) EndedAt: 2025-02-19 15:06:24 -0500 (Wed, 19 Feb 2025) EllapsedTime: 223.0 seconds RetCode: 0 Status: OK