Package: Rhdf5lib
Version: 1.29.0
Command: /home/biocbuild/bbs-3.21-bioc/R/bin/R CMD check --install=check:Rhdf5lib.install-out.txt --library=/home/biocbuild/bbs-3.21-bioc/R/site-library --timings Rhdf5lib_1.29.0.tar.gz
StartedAt: 2025-02-20 01:46:02 -0500 (Thu, 20 Feb 2025)
EndedAt: 2025-02-20 01:46:21 -0500 (Thu, 20 Feb 2025)
EllapsedTime: 19.1 seconds
RetCode: 0
Status: WARNINGS
CheckDir: Rhdf5lib.Rcheck
Warnings: 1