Package: Rhdf5lib Version: 1.29.0 Command: /home/biocbuild/bbs-3.21-bioc/R/bin/R CMD build --keep-empty-dirs --no-resave-data Rhdf5lib StartedAt: 2025-02-19 18:53:09 -0500 (Wed, 19 Feb 2025) EndedAt: 2025-02-19 18:56:50 -0500 (Wed, 19 Feb 2025) EllapsedTime: 221.2 seconds RetCode: 0 Status: OK PackageFile: Rhdf5lib_1.29.0.tar.gz PackageFileSize: 11.5 <A href="http://en.wikipedia.org/wiki/MiB" target="_blank">MiB</A>