Package: ReactomeGraph4R
Version: 1.15.0
Maintainer: Chi-Lam Poon
MaintainerEmail: clpoon807 at gmail.com
git_url: https://git.bioconductor.org/packages/ReactomeGraph4R
git_branch: devel
git_last_commit: af9bdb6
git_last_commit_date: 2024-10-29 11:01:07 -0500 (Tue, 29 Oct 2024)