Package: ReactomeContentService4R Version: 1.15.1 Command: /home/biocbuild/bbs-3.21-bioc/R/bin/R CMD INSTALL ReactomeContentService4R StartedAt: 2025-02-04 15:04:48 -0500 (Tue, 04 Feb 2025) EndedAt: 2025-02-04 15:05:12 -0500 (Tue, 04 Feb 2025) EllapsedTime: 24.2 seconds RetCode: 0 Status: OK