############################################################################## ############################################################################## ### ### Running command: ### ### rm -rf ReactomeContentService4R.buildbin-libdir && mkdir ReactomeContentService4R.buildbin-libdir && /Users/biocbuild/BBS/utils/build-universal.sh ReactomeContentService4R_1.15.1.tar.gz /Library/Frameworks/R.framework/Resources/bin/R ReactomeContentService4R.buildbin-libdir ### ############################################################################## ############################################################################## >>>>>>> >>>>>>> INSTALLATION WITH 'R CMD INSTALL --preclean --no-multiarch --library=ReactomeContentService4R.buildbin-libdir ReactomeContentService4R_1.15.1.tar.gz' >>>>>>> * installing *source* package ‘ReactomeContentService4R’ ... ** this is package ‘ReactomeContentService4R’ version ‘1.15.1’ ** using staged installation ** R ** inst ** byte-compile and prepare package for lazy loading ** help *** installing help indices ** building package indices ** installing vignettes ** testing if installed package can be loaded from temporary location Warning in fun(libname, pkgname) : Package 'ReactomeContentService4R' is deprecated and will be removed from Bioconductor version 3.22 ** testing if installed package can be loaded from final location Warning in fun(libname, pkgname) : Package 'ReactomeContentService4R' is deprecated and will be removed from Bioconductor version 3.22 ** testing if installed package keeps a record of temporary installation path * DONE (ReactomeContentService4R)