Package: ReactomeContentService4R Version: 1.15.1 Command: /home/biocbuild/R/R/bin/R CMD INSTALL ReactomeContentService4R StartedAt: 2025-01-29 19:36:25 -0000 (Wed, 29 Jan 2025) EndedAt: 2025-01-29 19:37:00 -0000 (Wed, 29 Jan 2025) EllapsedTime: 34.8 seconds RetCode: 0 Status: OK