Package: ReactomeContentService4R Version: 1.15.1 Command: /Library/Frameworks/R.framework/Resources/bin/R CMD check --install=check:ReactomeContentService4R.install-out.txt --library=/Library/Frameworks/R.framework/Resources/library --no-vignettes --timings ReactomeContentService4R_1.15.1.tar.gz StartedAt: 2025-02-04 20:55:08 -0500 (Tue, 04 Feb 2025) EndedAt: 2025-02-04 20:55:22 -0500 (Tue, 04 Feb 2025) EllapsedTime: 13.3 seconds RetCode: 1 Status: ERROR CheckDir: ReactomeContentService4R.Rcheck Warnings: NA