Package: Rbwa
Version: 1.11.0
Command: /Library/Frameworks/R.framework/Resources/bin/R CMD INSTALL Rbwa
StartedAt: 2025-02-19 15:03:48 -0500 (Wed, 19 Feb 2025)
EndedAt: 2025-02-19 15:04:34 -0500 (Wed, 19 Feb 2025)
EllapsedTime: 46.9 seconds
RetCode: 0
Status: OK