Package: Rbwa Version: 1.11.0 Command: /Library/Frameworks/R.framework/Resources/bin/R CMD check --install=check:Rbwa.install-out.txt --library=/Library/Frameworks/R.framework/Resources/library --no-vignettes --timings Rbwa_1.11.0.tar.gz StartedAt: 2025-02-19 22:39:57 -0500 (Wed, 19 Feb 2025) EndedAt: 2025-02-19 22:40:31 -0500 (Wed, 19 Feb 2025) EllapsedTime: 33.1 seconds RetCode: 0 Status: WARNINGS CheckDir: Rbwa.Rcheck Warnings: 1