Package: Rbwa Version: 1.11.0 Command: /Library/Frameworks/R.framework/Resources/bin/R CMD build --keep-empty-dirs --no-resave-data Rbwa StartedAt: 2025-02-19 17:55:42 -0500 (Wed, 19 Feb 2025) EndedAt: 2025-02-19 17:56:04 -0500 (Wed, 19 Feb 2025) EllapsedTime: 21.6 seconds RetCode: 0 Status: OK PackageFile: Rbwa_1.11.0.tar.gz PackageFileSize: 651.3 <A href="http://en.wikipedia.org/wiki/KiB" target="_blank">KiB</A>