Package: Rbwa
Version: 1.11.0
Command: rm -rf Rbwa.buildbin-libdir && mkdir Rbwa.buildbin-libdir && /Users/biocbuild/BBS/utils/build-universal.sh Rbwa_1.11.0.tar.gz /Library/Frameworks/R.framework/Resources/bin/R Rbwa.buildbin-libdir
StartedAt: 2025-02-20 00:49:00 -0500 (Thu, 20 Feb 2025)
EndedAt: 2025-02-20 00:49:25 -0500 (Thu, 20 Feb 2025)
EllapsedTime: 25.3 seconds
RetCode: 0
Status: OK
PackageFile: Rbwa_1.11.0.tgz
PackageFileSize: 651.1 <A href="http://en.wikipedia.org/wiki/KiB" target="_blank">KiB</A>