Package: Rbwa
Version: 1.11.0
Command: /home/biocbuild/R/R/bin/R CMD check --install=check:Rbwa.install-out.txt --library=/home/biocbuild/R/R/site-library --no-vignettes --timings Rbwa_1.11.0.tar.gz
StartedAt: 2025-01-28 14:20:48 -0000 (Tue, 28 Jan 2025)
EndedAt: 2025-01-28 14:21:06 -0000 (Tue, 28 Jan 2025)
EllapsedTime: 18.1 seconds
RetCode: 0
Status: WARNINGS
CheckDir: Rbwa.Rcheck
Warnings: 2