Package: Rbwa Version: 1.11.0 Command: /home/biocbuild/R/R/bin/R CMD build --keep-empty-dirs --no-resave-data Rbwa StartedAt: 2025-01-29 01:32:08 -0000 (Wed, 29 Jan 2025) EndedAt: 2025-01-29 01:32:35 -0000 (Wed, 29 Jan 2025) EllapsedTime: 27.0 seconds RetCode: 0 Status: OK PackageFile: Rbwa_1.11.0.tar.gz PackageFileSize: 718.6 <A href="http://en.wikipedia.org/wiki/KiB" target="_blank">KiB</A>