Package: RareVariantVis
Version: 2.35.0
Command: /Library/Frameworks/R.framework/Resources/bin/R CMD INSTALL RareVariantVis
StartedAt: 2025-02-19 15:22:09 -0500 (Wed, 19 Feb 2025)
EndedAt: 2025-02-19 15:23:10 -0500 (Wed, 19 Feb 2025)
EllapsedTime: 61.6 seconds
RetCode: 0
Status: OK