Package: RareVariantVis
Version: 2.35.0
Command: /Library/Frameworks/R.framework/Resources/bin/R CMD check --install=check:RareVariantVis.install-out.txt --library=/Library/Frameworks/R.framework/Resources/library --no-vignettes --timings RareVariantVis_2.35.0.tar.gz
StartedAt: 2025-02-19 22:38:25 -0500 (Wed, 19 Feb 2025)
EndedAt: 2025-02-19 22:44:29 -0500 (Wed, 19 Feb 2025)
EllapsedTime: 363.3 seconds
RetCode: 0
Status: OK
CheckDir: RareVariantVis.Rcheck
Warnings: 0