Package: RareVariantVis
Version: 2.35.0
Command: rm -rf RareVariantVis.buildbin-libdir && mkdir RareVariantVis.buildbin-libdir && /Users/biocbuild/BBS/utils/build-universal.sh RareVariantVis_2.35.0.tar.gz /Library/Frameworks/R.framework/Resources/bin/R RareVariantVis.buildbin-libdir
StartedAt: 2025-02-20 00:48:47 -0500 (Thu, 20 Feb 2025)
EndedAt: 2025-02-20 00:49:53 -0500 (Thu, 20 Feb 2025)
EllapsedTime: 65.8 seconds
RetCode: 0
Status: OK
PackageFile: RareVariantVis_2.35.0.tgz
PackageFileSize: 2.732 <A href="http://en.wikipedia.org/wiki/MiB" target="_blank">MiB</A>