Package: RareVariantVis
Version: 2.35.0
Command: /home/biocbuild/R/R/bin/R CMD check --install=check:RareVariantVis.install-out.txt --library=/home/biocbuild/R/R/site-library --no-vignettes --timings RareVariantVis_2.35.0.tar.gz
StartedAt: 2025-01-28 14:18:54 -0000 (Tue, 28 Jan 2025)
EndedAt: 2025-01-28 14:25:57 -0000 (Tue, 28 Jan 2025)
EllapsedTime: 423.7 seconds
RetCode: 0
Status: OK
CheckDir: RareVariantVis.Rcheck
Warnings: 0