Package: RareVariantVis Version: 2.35.0 Command: /Library/Frameworks/R.framework/Resources/bin/R CMD build --keep-empty-dirs --no-resave-data RareVariantVis StartedAt: 2025-02-19 17:21:06 -0500 (Wed, 19 Feb 2025) EndedAt: 2025-02-19 17:21:30 -0500 (Wed, 19 Feb 2025) EllapsedTime: 23.3 seconds RetCode: 0 Status: OK PackageFile: RareVariantVis_2.35.0.tar.gz PackageFileSize: 2.756 <A href="http://en.wikipedia.org/wiki/MiB" target="_blank">MiB</A>