Package: RareVariantVis Version: 2.35.0 Command: rm -rf RareVariantVis.buildbin-libdir && mkdir RareVariantVis.buildbin-libdir && /Users/biocbuild/BBS/utils/build-universal.sh RareVariantVis_2.35.0.tar.gz /Library/Frameworks/R.framework/Resources/bin/R RareVariantVis.buildbin-libdir StartedAt: 2025-02-19 22:34:18 -0500 (Wed, 19 Feb 2025) EndedAt: 2025-02-19 22:34:39 -0500 (Wed, 19 Feb 2025) EllapsedTime: 20.5 seconds RetCode: 0 Status: OK PackageFile: RareVariantVis_2.35.0.tgz PackageFileSize: 2.733 <A href="http://en.wikipedia.org/wiki/MiB" target="_blank">MiB</A>