Package: RaggedExperiment Version: 1.31.1 Command: E:\biocbuild\bbs-3.21-bioc\R\bin\R.exe CMD INSTALL RaggedExperiment StartedAt: 2025-02-19 15:46:30 -0500 (Wed, 19 Feb 2025) EndedAt: 2025-02-19 15:48:06 -0500 (Wed, 19 Feb 2025) EllapsedTime: 95.6 seconds RetCode: 0 Status: OK