Package: RaggedExperiment Version: 1.31.1 Command: E:\biocbuild\bbs-3.21-bioc\R\bin\R.exe CMD check --no-multiarch --install=check:RaggedExperiment.install-out.txt --library=E:\biocbuild\bbs-3.21-bioc\R\library --no-vignettes --timings RaggedExperiment_1.31.1.tar.gz StartedAt: 2025-02-20 04:28:06 -0500 (Thu, 20 Feb 2025) EndedAt: 2025-02-20 04:31:21 -0500 (Thu, 20 Feb 2025) EllapsedTime: 194.5 seconds RetCode: 0 Status: OK CheckDir: RaggedExperiment.Rcheck Warnings: 0