Package: RaggedExperiment Version: 1.31.1 Command: chmod a+r RaggedExperiment -R && E:\biocbuild\bbs-3.21-bioc\R\bin\R.exe CMD build --keep-empty-dirs --no-resave-data RaggedExperiment StartedAt: 2025-02-19 21:00:35 -0500 (Wed, 19 Feb 2025) EndedAt: 2025-02-19 21:01:28 -0500 (Wed, 19 Feb 2025) EllapsedTime: 53.2 seconds RetCode: 0 Status: OK PackageFile: RaggedExperiment_1.31.1.tar.gz PackageFileSize: 687.4 <A href="http://en.wikipedia.org/wiki/KiB" target="_blank">KiB</A>