##############################################################################
##############################################################################
###
### Running command:
###
###   chmod a+r RaggedExperiment -R && E:\biocbuild\bbs-3.21-bioc\R\bin\R.exe CMD build --keep-empty-dirs --no-resave-data RaggedExperiment
###
##############################################################################
##############################################################################


* checking for file 'RaggedExperiment/DESCRIPTION' ... OK
* preparing 'RaggedExperiment':
* checking DESCRIPTION meta-information ... OK
* installing the package to build vignettes
* creating vignettes ... OK
* checking for LF line-endings in source and make files and shell scripts
* checking for empty or unneeded directories
* building 'RaggedExperiment_1.31.1.tar.gz'