Package: RaggedExperiment
Version: 1.31.1
Command: rm -rf RaggedExperiment.buildbin-libdir && mkdir RaggedExperiment.buildbin-libdir && E:\biocbuild\bbs-3.21-bioc\R\bin\R.exe CMD INSTALL --build --library=RaggedExperiment.buildbin-libdir RaggedExperiment_1.31.1.tar.gz
StartedAt: 2025-02-20 08:30:56 -0500 (Thu, 20 Feb 2025)
EndedAt: 2025-02-20 08:34:10 -0500 (Thu, 20 Feb 2025)
EllapsedTime: 193.9 seconds
RetCode: 0
Status: OK
PackageFile: RaggedExperiment_1.31.1.zip
PackageFileSize: 1.205 <A href="http://en.wikipedia.org/wiki/MiB" target="_blank">MiB</A>