Package: RaggedExperiment Version: 1.31.1 Command: /Library/Frameworks/R.framework/Resources/bin/R CMD INSTALL RaggedExperiment StartedAt: 2025-02-19 15:10:14 -0500 (Wed, 19 Feb 2025) EndedAt: 2025-02-19 15:10:50 -0500 (Wed, 19 Feb 2025) EllapsedTime: 35.9 seconds RetCode: 0 Status: OK