Package: RaggedExperiment Version: 1.31.1 Command: /Library/Frameworks/R.framework/Resources/bin/R CMD check --install=check:RaggedExperiment.install-out.txt --library=/Library/Frameworks/R.framework/Resources/library --no-vignettes --timings RaggedExperiment_1.31.1.tar.gz StartedAt: 2025-02-19 22:36:49 -0500 (Wed, 19 Feb 2025) EndedAt: 2025-02-19 22:40:01 -0500 (Wed, 19 Feb 2025) EllapsedTime: 191.6 seconds RetCode: 0 Status: OK CheckDir: RaggedExperiment.Rcheck Warnings: 0