Package: RaggedExperiment
Version: 1.31.1
Command: /Library/Frameworks/R.framework/Resources/bin/R CMD build --keep-empty-dirs --no-resave-data RaggedExperiment
StartedAt: 2025-02-19 17:54:28 -0500 (Wed, 19 Feb 2025)
EndedAt: 2025-02-19 17:55:10 -0500 (Wed, 19 Feb 2025)
EllapsedTime: 42.3 seconds
RetCode: 0
Status: OK
PackageFile: RaggedExperiment_1.31.1.tar.gz
PackageFileSize: 686.8 <A href="http://en.wikipedia.org/wiki/KiB" target="_blank">KiB</A>