Package: RaggedExperiment Version: 1.31.1 Command: rm -rf RaggedExperiment.buildbin-libdir && mkdir RaggedExperiment.buildbin-libdir && /Users/biocbuild/BBS/utils/build-universal.sh RaggedExperiment_1.31.1.tar.gz /Library/Frameworks/R.framework/Resources/bin/R RaggedExperiment.buildbin-libdir StartedAt: 2025-02-20 00:48:35 -0500 (Thu, 20 Feb 2025) EndedAt: 2025-02-20 00:49:10 -0500 (Thu, 20 Feb 2025) EllapsedTime: 34.7 seconds RetCode: 0 Status: OK PackageFile: RaggedExperiment_1.31.1.tgz PackageFileSize: 1.202 <A href="http://en.wikipedia.org/wiki/MiB" target="_blank">MiB</A>