Package: RaggedExperiment Version: 1.31.1 Command: /home/biocbuild/R/R/bin/R CMD INSTALL RaggedExperiment StartedAt: 2025-01-29 19:40:42 -0000 (Wed, 29 Jan 2025) EndedAt: 2025-01-29 19:41:15 -0000 (Wed, 29 Jan 2025) EllapsedTime: 32.5 seconds RetCode: 0 Status: OK