Package: RaggedExperiment
Version: 1.31.1
Command: /home/biocbuild/R/R/bin/R CMD check --install=check:RaggedExperiment.install-out.txt --library=/home/biocbuild/R/R/site-library --no-vignettes --timings RaggedExperiment_1.31.1.tar.gz
StartedAt: 2025-01-28 14:17:27 -0000 (Tue, 28 Jan 2025)
EndedAt: 2025-01-28 14:21:03 -0000 (Tue, 28 Jan 2025)
EllapsedTime: 216.3 seconds
RetCode: 0
Status: OK
CheckDir: RaggedExperiment.Rcheck
Warnings: 0