Package: RaggedExperiment Version: 1.31.1 Command: /home/biocbuild/R/R/bin/R CMD build --keep-empty-dirs --no-resave-data RaggedExperiment StartedAt: 2025-01-29 01:29:01 -0000 (Wed, 29 Jan 2025) EndedAt: 2025-01-29 01:29:50 -0000 (Wed, 29 Jan 2025) EllapsedTime: 49.0 seconds RetCode: 0 Status: OK PackageFile: RaggedExperiment_1.31.1.tar.gz PackageFileSize: 818.6 <A href="http://en.wikipedia.org/wiki/KiB" target="_blank">KiB</A>