Package: RVS Version: 1.29.0 Command: /home/biocbuild/bbs-3.21-bioc/R/bin/R CMD check --install=check:RVS.install-out.txt --library=/home/biocbuild/bbs-3.21-bioc/R/site-library --timings RVS_1.29.0.tar.gz StartedAt: 2025-02-01 02:04:30 -0500 (Sat, 01 Feb 2025) EndedAt: 2025-02-01 02:10:11 -0500 (Sat, 01 Feb 2025) EllapsedTime: 341.5 seconds RetCode: 0 Status: WARNINGS CheckDir: RVS.Rcheck Warnings: 1