Package: RVS Version: 1.29.0 Command: /home/biocbuild/bbs-3.21-bioc/R/bin/R CMD build --keep-empty-dirs --no-resave-data RVS StartedAt: 2025-01-31 19:04:32 -0500 (Fri, 31 Jan 2025) EndedAt: 2025-01-31 19:06:53 -0500 (Fri, 31 Jan 2025) EllapsedTime: 140.3 seconds RetCode: 0 Status: OK PackageFile: RVS_1.29.0.tar.gz PackageFileSize: 627.1 KiB