Package: RTNsurvival
Version: 1.31.0
Command: /home/biocbuild/bbs-3.21-bioc/R/bin/R CMD INSTALL RTNsurvival
StartedAt: 2025-02-19 15:22:24 -0500 (Wed, 19 Feb 2025)
EndedAt: 2025-02-19 15:22:55 -0500 (Wed, 19 Feb 2025)
EllapsedTime: 30.9 seconds
RetCode: 0
Status: OK