Package: RTNsurvival
Version: 1.31.0
Command: /home/biocbuild/bbs-3.21-bioc/R/bin/R CMD check --install=check:RTNsurvival.install-out.txt --library=/home/biocbuild/bbs-3.21-bioc/R/site-library --timings RTNsurvival_1.31.0.tar.gz
StartedAt: 2025-02-20 01:59:51 -0500 (Thu, 20 Feb 2025)
EndedAt: 2025-02-20 02:03:46 -0500 (Thu, 20 Feb 2025)
EllapsedTime: 235.3 seconds
RetCode: 0
Status: OK
CheckDir: RTNsurvival.Rcheck
Warnings: 0