Package: RTNsurvival Version: 1.31.0 Command: /home/biocbuild/bbs-3.21-bioc/R/bin/R CMD build --keep-empty-dirs --no-resave-data RTNsurvival StartedAt: 2025-02-19 18:59:32 -0500 (Wed, 19 Feb 2025) EndedAt: 2025-02-19 19:00:20 -0500 (Wed, 19 Feb 2025) EllapsedTime: 48.1 seconds RetCode: 0 Status: OK PackageFile: RTNsurvival_1.31.0.tar.gz PackageFileSize: 733 <A href="http://en.wikipedia.org/wiki/KiB" target="_blank">KiB</A>